BEGIN:VCALENDAR
VERSION:2.0
PRODID:icalendar-ruby
CALSCALE:GREGORIAN
BEGIN:VEVENT
DTSTAMP:20260425T022508Z
UID:1bd33e06-c633-449d-8df7-9e77fb9b278c
DTSTART:20260425T100000
DTEND:20260425T120000
CLASS:PRIVATE
DESCRIPTION:Mit kreativem Schreiben\, persönlichen Erinnerungen und wissen
 schaftlichen Einblicken nimmt Dr. Silke Ohlmeier die Langeweile genau unte
 r die Lupe – und zeigt\, wie wir sie und ihre Wirkung auf uns besser wah
 rnehmen können.\nLassen Sie sich inspirieren\, eigene Gedanken auf Papier
  zu bringen\, ungewohnte Perspektiven einzunehmen und die Leere als kreati
 ve Quelle zu entdecken.
SUMMARY:«Der Langeweile schreibend begegnen» (Workshop)
END:VEVENT
END:VCALENDAR
