BEGIN:VCALENDAR
VERSION:2.0
PRODID:icalendar-ruby
CALSCALE:GREGORIAN
BEGIN:VEVENT
DTSTAMP:20260425T020931Z
UID:e05d1b0a-8499-459d-a1ad-3eaaff0de381
DTSTART:20260425T100000
DTEND:20260425T230000
CLASS:PRIVATE
DESCRIPTION:Heute verwandelt sich das Schulareal in Gommiswald in einen leb
 endigen Treffpunkt für die ganze Bevölkerung. Ab 10:00 Uhr erwartet die 
 Besuchenden ein abwechslungsreiches Programm mit Unterhaltung\, sportliche
 n Aktivitäten sowieeiner grossen Auswahl an kulinarischen Spezialitäten.
 \nProgramm Frühlingsfest:\n\n9:00 Uhr Neuzuzügeranlass\n10:00 Uhr Beginn
  Frühlingsfest\n10:00 Uhr Start «Di Schnällschte vo Gommiswald»\n11:00
  Uhr Show Armdrücken\n11:30 Uhr Vorführung Magic Guga\nab 12:30 Uhr Jubi
 läumsfeier 50 Jahre Musikschule Gommiswald im Gemeindesaal (durchgehend K
 onzerte)\n13:00 Uhr Vorführung Magic Guga\n13:30 Uhr Show Armdrücken\n14
 :00 Uhr Einsatzübung Feuerwehr Gommiswald\n15:15 Uhr Rangverkündigung «
 Di Schnällschte vo Gommiswald»\n16:00 Uhr Show Armdrücken\n
SUMMARY:Frühlingsfest
END:VEVENT
END:VCALENDAR
