BEGIN:VCALENDAR
VERSION:2.0
PRODID:icalendar-ruby
CALSCALE:GREGORIAN
BEGIN:VEVENT
DTSTAMP:20260424T113006Z
UID:34ec3aeb-aeff-45ed-99b2-81750f63943a
DTSTART:20260424T183000
DTEND:20260424T210000
CLASS:PRIVATE
DESCRIPTION:Die Asiatische Tigermücke breitet sich auch in Uznach und Umge
 bung zunehmend aus. An einem öffentlichen Vortrag informiert die Expertin
  Dr. Gabi Müller über Hintergründe\, Risiken und konkrete Handlungsmög
 lichkeiten. Im Anschluss findet die Hauptversammlung des Vereins Natur Uzn
 ach Schmerikon statt.\nGebietsfremde invasive Art Die Asiatische Tigermüc
 ke breitet sich zunehmend auch in der Region Uznach aus. Als gebietsfremde
  invasive Art wird sie vor allem über den motorisierten Verkehr in Europa
  verschleppt.\nIm Vergleich zur heimischen Hausmücke sticht häufiger\, a
 uch tagsüber\, ihre Stiche sind besonders unangenehm und sie kann tropisc
 he Krankheitserreger übertragen.&nbsp\;\nIm Herbst 2021 wurde die Asiatis
 che Tigermücke erstmals in Uznach nachgewiesen. Seither beschäftigen sic
 h Kanton und Gemeinde mit ihrer Ausbreitung sowie mit geeigneten Gegenmass
 nahmen.\nBiologie des Tieres und Situation in der RegionIm Rahmen eines ö
 ffentlichen Vortrags gibt Dr. Gabi Müller Einblick in die Biologie und Ve
 rbreitung dieser Art. Zudem beleuchtet sie die aktuelle Situation in Uznac
 h und Umgebung\, informiert über laufende Massnahmen und zeigt konkrete H
 andlungsmöglichkeiten für die Bevölkerung auf.\nDanach besteht Gelegenh
 eit\, Fragen zu stellen sowie Anschauungsmaterial zu besichtigen.&nbsp\;\n
 Hauptversammlung Verein Natur Uznach SchmerikonIm Anschluss an diesen Vort
 rag findet die Hauptversammlung des Vereins Natur Uznach Schmerikon statt.
 \nNeben den ordentlichen Traktanden wird über eine mögliche Fusion mit B
 änggner Natur abgestimmt. Ziel dieses Zusammenschlusses ist es\, eine sta
 bile und zukunftsfähige Struktur zu schaffen und die Vereinsarbeit langfr
 istig zu sichern.\nDie Vorstände beider Vereine sind überzeugt\, dass du
 rch eine Fusion Projekte und Pflegeeinsätze effizienter umgesetzt und zus
 ätzliche Synergien genutzt werden können.&nbsp\;\nDer Vortrag beginnt um
  18:30 Uhr\, die Hauptversammlung startet um 19:45 Uhr.&nbsp\;\nApéroIm A
 nschluss sind alle Teilnehmenden zu einem Apéro eingeladen. Die Veranstal
 tung wird vom Verein Natur Uznach Schmerikon (nus) organisiert und ist kos
 tenlos.\nSowohl Mitglieder als auch interessierte Gäste sind herzlich wil
 lkommen.
SUMMARY:Verein nus: Vortrag zur Asiatischen Tigermücke + Hauptversammlung
END:VEVENT
END:VCALENDAR
